BEGIN:VCALENDAR
VERSION:2.0
PRODID:-//Squarespace Inc/Squarespace 6//v6//EN
BEGIN:VEVENT
UID:5b95cb2a03ce64eefd230505@squarespace.com
DTSTAMP:20181001T122643Z
DTSTART:20181027T140000Z
DTEND:20181027T190000Z
SUMMARY:Wimbe Street Fete 2018
END:VEVENT
END:VCALENDAR
