BEGIN:VCALENDAR
VERSION:2.0
PRODID:-//Squarespace Inc/Squarespace 6//v6//EN
BEGIN:VEVENT
UID:5b95c8524fa51ad1903c6ea2@squarespace.com
DTSTAMP:20180910T014101Z
DTSTART:20181209T190000Z
DTEND:20181209T200000Z
SUMMARY:Wimble Christmas Picnic
END:VEVENT
END:VCALENDAR
