BEGIN:VCALENDAR
VERSION:2.0
PRODID:-//Squarespace Inc/Squarespace 6//v6//EN
BEGIN:VEVENT
UID:5b95cf4b21c67c935cc7c0d3@squarespace.com
DTSTAMP:20180910T015721Z
DTSTART:20180909T130000Z
DTEND:20180909T140000Z
SUMMARY:Working Bee
END:VEVENT
END:VCALENDAR
